BEGIN:VCALENDAR
VERSION:2.0
PRODID:-//Climate Café® - ECPv6.15.20//NONSGML v1.0//EN
CALSCALE:GREGORIAN
METHOD:PUBLISH
X-WR-CALNAME:Climate Café®
X-ORIGINAL-URL:https://www.climate.cafe
X-WR-CALDESC:Events for Climate Café®
REFRESH-INTERVAL;VALUE=DURATION:PT1H
X-Robots-Tag:noindex
X-PUBLISHED-TTL:PT1H
BEGIN:VTIMEZONE
TZID:Europe/London
BEGIN:DAYLIGHT
TZOFFSETFROM:+0000
TZOFFSETTO:+0100
TZNAME:BST
DTSTART:20200329T010000
END:DAYLIGHT
BEGIN:STANDARD
TZOFFSETFROM:+0100
TZOFFSETTO:+0000
TZNAME:GMT
DTSTART:20201025T010000
END:STANDARD
BEGIN:DAYLIGHT
TZOFFSETFROM:+0000
TZOFFSETTO:+0100
TZNAME:BST
DTSTART:20210328T010000
END:DAYLIGHT
BEGIN:STANDARD
TZOFFSETFROM:+0100
TZOFFSETTO:+0000
TZNAME:GMT
DTSTART:20211031T010000
END:STANDARD
BEGIN:DAYLIGHT
TZOFFSETFROM:+0000
TZOFFSETTO:+0100
TZNAME:BST
DTSTART:20220327T010000
END:DAYLIGHT
BEGIN:STANDARD
TZOFFSETFROM:+0100
TZOFFSETTO:+0000
TZNAME:GMT
DTSTART:20221030T010000
END:STANDARD
END:VTIMEZONE
BEGIN:VEVENT
DTSTART;TZID=Europe/London:20211111T100000
DTEND;TZID=Europe/London:20211111T100000
DTSTAMP:20260422T174041
CREATED:20211027T101758Z
LAST-MODIFIED:20211029T062733Z
UID:1798-1636624800-1636624800@www.climate.cafe
SUMMARY:Climate Café on Climate Justice - focus on buildings and energy
DESCRIPTION:Invitees only.
URL:https://www.climate.cafe/event/climate-cafe-on-climate-justice-focus-on-buildings-and-energy/
LOCATION:Glasgow Kelvin College\, 123 Flemington Street\, Glasgow\, G21 4TD\, United Kingdom
END:VEVENT
BEGIN:VEVENT
DTSTART;TZID=Europe/London:20211110T190000
DTEND;TZID=Europe/London:20211110T190000
DTSTAMP:20260422T174041
CREATED:20211029T130654Z
LAST-MODIFIED:20211029T130734Z
UID:1875-1636570800-1636570800@www.climate.cafe
SUMMARY:Look ahead on transport day
DESCRIPTION:Global Live Climate Cafés for COP26 in partnership with Climate Reality and the Climate Crisis Film Festival \nJoin live wherever you are in the world.
URL:https://www.climate.cafe/event/look-ahead-on-transport-day/
LOCATION:Online
END:VEVENT
BEGIN:VEVENT
DTSTART;TZID=Europe/London:20211110T150000
DTEND;TZID=Europe/London:20211110T150000
DTSTAMP:20260422T174041
CREATED:20211029T173839Z
LAST-MODIFIED:20211030T135105Z
UID:1967-1636556400-1636556400@www.climate.cafe
SUMMARY:COP26 Climate Café
DESCRIPTION:Speaker: Ruwan Gamage\, Sri Lanka \nHosted by First Bus Glasgow at the Caledonian Depot\, accessible by Shuttle Bus from St Vincent Street\, near George Square.
URL:https://www.climate.cafe/event/cop26-climate-cafe-10th-3pm/
CATEGORIES:COP26 Climate Café
ATTACH;FMTTYPE=image/jpeg:https://www.climate.cafe/wp/wp-content/uploads/2021/10/cop26-cafe-logo.jpg
END:VEVENT
BEGIN:VEVENT
DTSTART;TZID=Europe/London:20211110T130000
DTEND;TZID=Europe/London:20211110T160000
DTSTAMP:20260422T174041
CREATED:20211029T131708Z
LAST-MODIFIED:20211029T131824Z
UID:1887-1636549200-1636560000@www.climate.cafe
SUMMARY:Pop Up Climate Café\, Buchanan Street Bus Station
DESCRIPTION:
URL:https://www.climate.cafe/event/pop-up-climate-cafe-buchanan-street-bus-station-10th-1pm/
LOCATION:Buchanan Street Bus Station\, Killermont Street\, Glasgow\, G2 3NW\, United Kingdom
END:VEVENT
BEGIN:VEVENT
DTSTART;TZID=Europe/London:20211110T130000
DTEND;TZID=Europe/London:20211110T140000
DTSTAMP:20260422T174041
CREATED:20211029T155305Z
LAST-MODIFIED:20211029T155332Z
UID:1933-1636549200-1636552800@www.climate.cafe
SUMMARY:COP26 Climate Café
DESCRIPTION:Open Mic \nHosted by First Bus Glasgow at the Caledonian Depot\, accessible by Shuttle Bus from St Vincent Street\, near George Square.
URL:https://www.climate.cafe/event/cop26-climate-cafe-open-mic-10th/
CATEGORIES:COP26 Climate Café
ATTACH;FMTTYPE=image/jpeg:https://www.climate.cafe/wp/wp-content/uploads/2021/10/cop26-cafe-logo.jpg
END:VEVENT
BEGIN:VEVENT
DTSTART;TZID=Europe/London:20211110T110000
DTEND;TZID=Europe/London:20211110T110000
DTSTAMP:20260422T174041
CREATED:20211029T174047Z
LAST-MODIFIED:20211030T135038Z
UID:1969-1636542000-1636542000@www.climate.cafe
SUMMARY:COP26 Climate Café
DESCRIPTION:Speaker: Erik Dalhuijsen\, Netherlands \nHosted by First Bus Glasgow at the Caledonian Depot\, accessible by Shuttle Bus from St Vincent Street\, near George Square.
URL:https://www.climate.cafe/event/cop26-climate-cafe-10th-11am/
CATEGORIES:COP26 Climate Café
ATTACH;FMTTYPE=image/jpeg:https://www.climate.cafe/wp/wp-content/uploads/2021/10/cop26-cafe-logo.jpg
END:VEVENT
BEGIN:VEVENT
DTSTART;TZID=Europe/London:20211110T100000
DTEND;TZID=Europe/London:20211110T130000
DTSTAMP:20260422T174041
CREATED:20211029T131843Z
LAST-MODIFIED:20211029T131959Z
UID:1890-1636538400-1636549200@www.climate.cafe
SUMMARY:Pop Up Climate Café\, Buchanan Street Bus Station
DESCRIPTION:
URL:https://www.climate.cafe/event/pop-up-climate-cafe-buchanan-street-bus-station-10th-10am/
LOCATION:Buchanan Street Bus Station\, Killermont Street\, Glasgow\, G2 3NW\, United Kingdom
END:VEVENT
BEGIN:VEVENT
DTSTART;TZID=Europe/London:20211109T190000
DTEND;TZID=Europe/London:20211109T190000
DTSTAMP:20260422T174041
CREATED:20211029T130431Z
LAST-MODIFIED:20211029T130545Z
UID:1873-1636484400-1636484400@www.climate.cafe
SUMMARY:Gender focus
DESCRIPTION:Global Live Climate Cafés for COP26 in partnership with Climate Reality and the Climate Crisis Film Festival \nJoin live wherever you are in the world.
URL:https://www.climate.cafe/event/gender-focus/
LOCATION:Online
END:VEVENT
BEGIN:VEVENT
DTSTART;TZID=Europe/London:20211109T150000
DTEND;TZID=Europe/London:20211109T150000
DTSTAMP:20260422T174041
CREATED:20211029T173148Z
LAST-MODIFIED:20211029T173227Z
UID:1962-1636470000-1636470000@www.climate.cafe
SUMMARY:COP26 Climate Café
DESCRIPTION:Speaker: University of the Third Age \nHosted by First Bus Glasgow at the Caledonian Depot\, accessible by Shuttle Bus from St Vincent Street\, near George Square.
URL:https://www.climate.cafe/event/cop26-climate-cafe-9th-3pm/
CATEGORIES:COP26 Climate Café
ATTACH;FMTTYPE=image/jpeg:https://www.climate.cafe/wp/wp-content/uploads/2021/10/cop26-cafe-logo.jpg
END:VEVENT
BEGIN:VEVENT
DTSTART;TZID=Europe/London:20211109T130000
DTEND;TZID=Europe/London:20211109T140000
DTSTAMP:20260422T174041
CREATED:20211029T155222Z
LAST-MODIFIED:20211029T155255Z
UID:1931-1636462800-1636466400@www.climate.cafe
SUMMARY:COP26 Climate Café
DESCRIPTION:Open Mic \nHosted by First Bus Glasgow at the Caledonian Depot\, accessible by Shuttle Bus from St Vincent Street\, near George Square.
URL:https://www.climate.cafe/event/cop26-climate-cafe-open-mic-9th/
CATEGORIES:COP26 Climate Café
ATTACH;FMTTYPE=image/jpeg:https://www.climate.cafe/wp/wp-content/uploads/2021/10/cop26-cafe-logo.jpg
END:VEVENT
BEGIN:VEVENT
DTSTART;TZID=Europe/London:20211109T110000
DTEND;TZID=Europe/London:20211109T110000
DTSTAMP:20260422T174041
CREATED:20211029T173025Z
LAST-MODIFIED:20211029T173124Z
UID:1960-1636455600-1636455600@www.climate.cafe
SUMMARY:COP26 Climate Café
DESCRIPTION:Speaker: University of the Third Age \nHosted by First Bus Glasgow at the Caledonian Depot\, accessible by Shuttle Bus from St Vincent Street\, near George Square.
URL:https://www.climate.cafe/event/cop26-climate-cafe-9th-11am/
CATEGORIES:COP26 Climate Café
ATTACH;FMTTYPE=image/jpeg:https://www.climate.cafe/wp/wp-content/uploads/2021/10/cop26-cafe-logo.jpg
END:VEVENT
BEGIN:VEVENT
DTSTART;TZID=Europe/London:20211108T150000
DTEND;TZID=Europe/London:20211108T150000
DTSTAMP:20260422T174041
CREATED:20211029T172905Z
LAST-MODIFIED:20211029T172954Z
UID:1958-1636383600-1636383600@www.climate.cafe
SUMMARY:COP26 Climate Café
DESCRIPTION:Speaker: Joshua Cooper\, Hawaii USA \nHosted by First Bus Glasgow at the Caledonian Depot\, accessible by Shuttle Bus from St Vincent Street\, near George Square.
URL:https://www.climate.cafe/event/cop26-climate-cafe-8th-3pm/
CATEGORIES:COP26 Climate Café
ATTACH;FMTTYPE=image/jpeg:https://www.climate.cafe/wp/wp-content/uploads/2021/10/cop26-cafe-logo.jpg
END:VEVENT
BEGIN:VEVENT
DTSTART;TZID=Europe/London:20211108T130000
DTEND;TZID=Europe/London:20211108T140000
DTSTAMP:20260422T174041
CREATED:20211029T155131Z
LAST-MODIFIED:20211029T155213Z
UID:1928-1636376400-1636380000@www.climate.cafe
SUMMARY:COP26 Climate Café
DESCRIPTION:Open Mic \nHosted by First Bus Glasgow at the Caledonian Depot\, accessible by Shuttle Bus from St Vincent Street\, near George Square.
URL:https://www.climate.cafe/event/cop26-climate-cafe-open-mic-8th/
CATEGORIES:COP26 Climate Café
ATTACH;FMTTYPE=image/jpeg:https://www.climate.cafe/wp/wp-content/uploads/2021/10/cop26-cafe-logo.jpg
END:VEVENT
BEGIN:VEVENT
DTSTART;TZID=Europe/London:20211108T110000
DTEND;TZID=Europe/London:20211108T110000
DTSTAMP:20260422T174041
CREATED:20211029T172751Z
LAST-MODIFIED:20211029T172852Z
UID:1956-1636369200-1636369200@www.climate.cafe
SUMMARY:COP26 Climate Café
DESCRIPTION:Speaker: Ana Isabel Billingslea\, Guatemala \nHosted by First Bus Glasgow at the Caledonian Depot\, accessible by Shuttle Bus from St Vincent Street\, near George Square.
URL:https://www.climate.cafe/event/cop26-climate-cafe-8th-11am/
CATEGORIES:COP26 Climate Café
ATTACH;FMTTYPE=image/jpeg:https://www.climate.cafe/wp/wp-content/uploads/2021/10/cop26-cafe-logo.jpg
END:VEVENT
BEGIN:VEVENT
DTSTART;TZID=Europe/London:20211108T070000
DTEND;TZID=Europe/London:20211108T070000
DTSTAMP:20260422T174041
CREATED:20211029T130253Z
LAST-MODIFIED:20211029T130356Z
UID:1871-1636354800-1636354800@www.climate.cafe
SUMMARY:Indigenous voices
DESCRIPTION:Global Live Climate Cafés for COP26 in partnership with Climate Reality and the Climate Crisis Film Festival \nJoin live wherever you are in the world.
URL:https://www.climate.cafe/event/indigenous-voices/
LOCATION:Online
END:VEVENT
BEGIN:VEVENT
DTSTART;TZID=Europe/London:20211107T190000
DTEND;TZID=Europe/London:20211107T190000
DTSTAMP:20260422T174041
CREATED:20211029T130134Z
LAST-MODIFIED:20211029T130220Z
UID:1869-1636311600-1636311600@www.climate.cafe
SUMMARY:Over to faith voices
DESCRIPTION:Global Live Climate Cafés for COP26 in partnership with Climate Reality and the Climate Crisis Film Festival \nJoin live wherever you are in the world.
URL:https://www.climate.cafe/event/over-to-faith-voices/
LOCATION:Online
END:VEVENT
BEGIN:VEVENT
DTSTART;TZID=Europe/London:20211106T190000
DTEND;TZID=Europe/London:20211106T190000
DTSTAMP:20260422T174041
CREATED:20211029T130004Z
LAST-MODIFIED:20211029T130105Z
UID:1867-1636225200-1636225200@www.climate.cafe
SUMMARY:Action and nature
DESCRIPTION:Global Live Climate Cafés for COP26 in partnership with Climate Reality and the Climate Crisis Film Festival \nJoin live wherever you are in the world.
URL:https://www.climate.cafe/event/action-and-nature/
LOCATION:Online
END:VEVENT
BEGIN:VEVENT
DTSTART;TZID=Europe/London:20211105T190000
DTEND;TZID=Europe/London:20211105T190000
DTSTAMP:20260422T174041
CREATED:20211029T115703Z
LAST-MODIFIED:20211029T115738Z
UID:1845-1636138800-1636138800@www.climate.cafe
SUMMARY:Over to youth voices
DESCRIPTION:Global Live Climate Cafés for COP26 in partnership with Climate Reality and the Climate Crisis Film Festival \nJoin live wherever you are in the world.
URL:https://www.climate.cafe/event/over-to-youth-voices/
LOCATION:Online
END:VEVENT
BEGIN:VEVENT
DTSTART;TZID=Europe/London:20211105T150000
DTEND;TZID=Europe/London:20211105T150000
DTSTAMP:20260422T174041
CREATED:20211029T165755Z
LAST-MODIFIED:20211029T165858Z
UID:1954-1636124400-1636124400@www.climate.cafe
SUMMARY:COP26 Climate Café
DESCRIPTION:Speaker: University of the Third Age \nHosted by First Bus Glasgow at the Caledonian Depot\, accessible by Shuttle Bus from St Vincent Street\, near George Square.
URL:https://www.climate.cafe/event/cop26-climate-cafe-5th-3pm/
CATEGORIES:COP26 Climate Café
ATTACH;FMTTYPE=image/jpeg:https://www.climate.cafe/wp/wp-content/uploads/2021/10/cop26-cafe-logo.jpg
END:VEVENT
BEGIN:VEVENT
DTSTART;TZID=Europe/London:20211105T130000
DTEND;TZID=Europe/London:20211105T140000
DTSTAMP:20260422T174041
CREATED:20211029T155044Z
LAST-MODIFIED:20211029T155120Z
UID:1926-1636117200-1636120800@www.climate.cafe
SUMMARY:COP26 Climate Café
DESCRIPTION:Open Mic \nHosted by First Bus Glasgow at the Caledonian Depot\, accessible by Shuttle Bus from St Vincent Street\, near George Square.
URL:https://www.climate.cafe/event/cop26-climate-cafe-open-mic-5th/
CATEGORIES:COP26 Climate Café
ATTACH;FMTTYPE=image/jpeg:https://www.climate.cafe/wp/wp-content/uploads/2021/10/cop26-cafe-logo.jpg
END:VEVENT
BEGIN:VEVENT
DTSTART;TZID=Europe/London:20211105T110000
DTEND;TZID=Europe/London:20211105T110000
DTSTAMP:20260422T174041
CREATED:20211029T165623Z
LAST-MODIFIED:20211029T165737Z
UID:1951-1636110000-1636110000@www.climate.cafe
SUMMARY:COP26 Climate Café
DESCRIPTION:Speaker: University of the Third Age \nHosted by First Bus Glasgow at the Caledonian Depot\, accessible by Shuttle Bus from St Vincent Street\, near George Square.
URL:https://www.climate.cafe/event/cop26-climate-cafe-5th-11am/
CATEGORIES:COP26 Climate Café
ATTACH;FMTTYPE=image/jpeg:https://www.climate.cafe/wp/wp-content/uploads/2021/10/cop26-cafe-logo.jpg
END:VEVENT
BEGIN:VEVENT
DTSTART;TZID=Europe/London:20211105T100000
DTEND;TZID=Europe/London:20211105T100000
DTSTAMP:20260422T174041
CREATED:20211027T101529Z
LAST-MODIFIED:20211029T062648Z
UID:1792-1636106400-1636106400@www.climate.cafe
SUMMARY:Climate Café on Climate Justice - focus on transport
DESCRIPTION:Invitees only.
URL:https://www.climate.cafe/event/climate-cafe-on-climate-justice-focus-on-transport/
LOCATION:Glasgow Kelvin College\, 123 Flemington Street\, Glasgow\, G21 4TD\, United Kingdom
END:VEVENT
BEGIN:VEVENT
DTSTART;TZID=Europe/London:20211104T190000
DTEND;TZID=Europe/London:20211104T190000
DTSTAMP:20260422T174041
CREATED:20211029T115437Z
LAST-MODIFIED:20211029T115537Z
UID:1843-1636052400-1636052400@www.climate.cafe
SUMMARY:Look ahead to energy day
DESCRIPTION:Global Live Climate Cafés for COP26 in partnership with Climate Reality and the Climate Crisis Film Festival \nJoin live wherever you are in the world.
URL:https://www.climate.cafe/event/look-ahead-to-energy-day/
LOCATION:Online
END:VEVENT
BEGIN:VEVENT
DTSTART;TZID=Europe/London:20211104T150000
DTEND;TZID=Europe/London:20211104T150000
DTSTAMP:20260422T174041
CREATED:20211029T165420Z
LAST-MODIFIED:20211029T165546Z
UID:1948-1636038000-1636038000@www.climate.cafe
SUMMARY:COP26 Climate Café
DESCRIPTION:Speaker: Joe Vipond\, Canada \nHosted by First Bus Glasgow at the Caledonian Depot\, accessible by Shuttle Bus from St Vincent Street\, near George Square.
URL:https://www.climate.cafe/event/cop26-climate-cafe-4th-3pm/
CATEGORIES:COP26 Climate Café
ATTACH;FMTTYPE=image/jpeg:https://www.climate.cafe/wp/wp-content/uploads/2021/10/cop26-cafe-logo.jpg
END:VEVENT
BEGIN:VEVENT
DTSTART;TZID=Europe/London:20211104T130000
DTEND;TZID=Europe/London:20211104T160000
DTSTAMP:20260422T174041
CREATED:20211029T131454Z
LAST-MODIFIED:20211029T131606Z
UID:1885-1636030800-1636041600@www.climate.cafe
SUMMARY:Pop Up Climate Café\, Buchanan Street Bus Station
DESCRIPTION:
URL:https://www.climate.cafe/event/pop-up-climate-cafe-buchanan-street-bus-station-4th-1pm/
LOCATION:Buchanan Street Bus Station\, Killermont Street\, Glasgow\, G2 3NW\, United Kingdom
END:VEVENT
BEGIN:VEVENT
DTSTART;TZID=Europe/London:20211104T130000
DTEND;TZID=Europe/London:20211104T140000
DTSTAMP:20260422T174041
CREATED:20211029T154931Z
LAST-MODIFIED:20211029T155007Z
UID:1924-1636030800-1636034400@www.climate.cafe
SUMMARY:COP26 Climate Café
DESCRIPTION:Open Mic \nHosted by First Bus Glasgow at the Caledonian Depot\, accessible by Shuttle Bus from St Vincent Street\, near George Square.
URL:https://www.climate.cafe/event/cop26-climate-cafe-open-mic-4th/
CATEGORIES:COP26 Climate Café
ATTACH;FMTTYPE=image/jpeg:https://www.climate.cafe/wp/wp-content/uploads/2021/10/cop26-cafe-logo.jpg
END:VEVENT
BEGIN:VEVENT
DTSTART;TZID=Europe/London:20211104T110000
DTEND;TZID=Europe/London:20211104T110000
DTSTAMP:20260422T174041
CREATED:20211029T164229Z
LAST-MODIFIED:20211029T164414Z
UID:1937-1636023600-1636023600@www.climate.cafe
SUMMARY:COP26 Climate Café
DESCRIPTION:Speaker: Melissa Capcha\, Peru \nHosted by First Bus Glasgow at the Caledonian Depot\, accessible by Shuttle Bus from St Vincent Street\, near George Square.
URL:https://www.climate.cafe/event/cop26-climate-cafe-4th-11am/
CATEGORIES:COP26 Climate Café
ATTACH;FMTTYPE=image/jpeg:https://www.climate.cafe/wp/wp-content/uploads/2021/10/cop26-cafe-logo.jpg
END:VEVENT
BEGIN:VEVENT
DTSTART;TZID=Europe/London:20211103T150000
DTEND;TZID=Europe/London:20211103T150000
DTSTAMP:20260422T174041
CREATED:20211029T125605Z
LAST-MODIFIED:20211029T125713Z
UID:1865-1635951600-1635951600@www.climate.cafe
SUMMARY:COP26 Climate Café
DESCRIPTION:Speaker: Julieta Rodrigo \nHosted by First Bus Glasgow at the Caledonian Depot\, accessible by Shuttle Bus from St Vincent Street\, near George Square.
URL:https://www.climate.cafe/event/cop26-climate-cafe-3rd-3pm/
CATEGORIES:COP26 Climate Café
ATTACH;FMTTYPE=image/jpeg:https://www.climate.cafe/wp/wp-content/uploads/2021/10/cop26-cafe-logo.jpg
END:VEVENT
BEGIN:VEVENT
DTSTART;TZID=Europe/London:20211103T130000
DTEND;TZID=Europe/London:20211103T160000
DTSTAMP:20260422T174041
CREATED:20211029T131152Z
LAST-MODIFIED:20211029T131648Z
UID:1882-1635944400-1635955200@www.climate.cafe
SUMMARY:Pop Up Climate Café\, Buchanan Street Bus Station
DESCRIPTION:
URL:https://www.climate.cafe/event/pop-up-climate-cafe-buchanan-street-bus-station-3rd-1pm/
LOCATION:Buchanan Street Bus Station\, Killermont Street\, Glasgow\, G2 3NW\, United Kingdom
END:VEVENT
BEGIN:VEVENT
DTSTART;TZID=Europe/London:20211103T130000
DTEND;TZID=Europe/London:20211103T140000
DTSTAMP:20260422T174041
CREATED:20211029T154812Z
LAST-MODIFIED:20211029T154905Z
UID:1921-1635944400-1635948000@www.climate.cafe
SUMMARY:COP26 Climate Café
DESCRIPTION:Open Mic \nHosted by First Bus Glasgow at the Caledonian Depot\, accessible by Shuttle Bus from St Vincent Street\, near George Square.
URL:https://www.climate.cafe/event/cop26-climate-cafe-open-mic-3rd/
CATEGORIES:COP26 Climate Café
ATTACH;FMTTYPE=image/jpeg:https://www.climate.cafe/wp/wp-content/uploads/2021/10/cop26-cafe-logo.jpg
END:VEVENT
END:VCALENDAR