BEGIN:VCALENDAR
VERSION:2.0
PRODID:-//Climate Café® - ECPv6.15.20//NONSGML v1.0//EN
CALSCALE:GREGORIAN
METHOD:PUBLISH
X-ORIGINAL-URL:https://www.climate.cafe
X-WR-CALDESC:Events for Climate Café®
REFRESH-INTERVAL;VALUE=DURATION:PT1H
X-Robots-Tag:noindex
X-PUBLISHED-TTL:PT1H
BEGIN:VTIMEZONE
TZID:Europe/London
BEGIN:DAYLIGHT
TZOFFSETFROM:+0000
TZOFFSETTO:+0100
TZNAME:BST
DTSTART:20200329T010000
END:DAYLIGHT
BEGIN:STANDARD
TZOFFSETFROM:+0100
TZOFFSETTO:+0000
TZNAME:GMT
DTSTART:20201025T010000
END:STANDARD
BEGIN:DAYLIGHT
TZOFFSETFROM:+0000
TZOFFSETTO:+0100
TZNAME:BST
DTSTART:20210328T010000
END:DAYLIGHT
BEGIN:STANDARD
TZOFFSETFROM:+0100
TZOFFSETTO:+0000
TZNAME:GMT
DTSTART:20211031T010000
END:STANDARD
BEGIN:DAYLIGHT
TZOFFSETFROM:+0000
TZOFFSETTO:+0100
TZNAME:BST
DTSTART:20220327T010000
END:DAYLIGHT
BEGIN:STANDARD
TZOFFSETFROM:+0100
TZOFFSETTO:+0000
TZNAME:GMT
DTSTART:20221030T010000
END:STANDARD
END:VTIMEZONE
BEGIN:VEVENT
DTSTART;TZID=Europe/London:20211102T110000
DTEND;TZID=Europe/London:20211102T110000
DTSTAMP:20260422T223634
CREATED:20211029T124511Z
LAST-MODIFIED:20211029T124637Z
UID:1858-1635850800-1635850800@www.climate.cafe
SUMMARY:COP26 Climate Café
DESCRIPTION:Speaker: Ryan Bestre\, Philippines \nHosted by First Bus Glasgow at the Caledonian Depot\, accessible by Shuttle Bus from St Vincent Street\, near George Square.
URL:https://www.climate.cafe/event/cop26-climate-cafe-2nd-11am/
CATEGORIES:COP26 Climate Café
ATTACH;FMTTYPE=image/jpeg:https://www.climate.cafe/wp/wp-content/uploads/2021/10/cop26-cafe-logo.jpg
END:VEVENT
BEGIN:VEVENT
DTSTART;TZID=Europe/London:20211101T190000
DTEND;TZID=Europe/London:20211101T190000
DTSTAMP:20260422T223634
CREATED:20211027T081217Z
LAST-MODIFIED:20211030T205516Z
UID:1778-1635793200-1635793200@www.climate.cafe
SUMMARY:Global Climate Cafes Live: Kick off for COP26
DESCRIPTION:Global Live Climate Cafés for COP26 in partnership with Climate Reality and the Climate Crisis Film Festival \nJoin live wherever you are in the world. \nFind the link to the live Café here. https://www.climatecrisisff.co.uk
URL:https://www.climate.cafe/event/kick-off-for-cop26/
LOCATION:Online
END:VEVENT
BEGIN:VEVENT
DTSTART;TZID=Europe/London:20211101T150000
DTEND;TZID=Europe/London:20211101T150000
DTSTAMP:20260422T223634
CREATED:20211029T124229Z
LAST-MODIFIED:20211029T125225Z
UID:1854-1635778800-1635778800@www.climate.cafe
SUMMARY:COP26 Climate Café
DESCRIPTION:Speaker: Sally Giblin\, Australia \nHosted by First Bus Glasgow at the Caledonian Depot\, accessible by Shuttle Bus from St Vincent Street\, near George Square.
URL:https://www.climate.cafe/event/cop26-climate-cafe-1st-3pm/
CATEGORIES:COP26 Climate Café
ATTACH;FMTTYPE=image/jpeg:https://www.climate.cafe/wp/wp-content/uploads/2021/10/cop26-cafe-logo.jpg
END:VEVENT
BEGIN:VEVENT
DTSTART;TZID=Europe/London:20211101T130000
DTEND;TZID=Europe/London:20211101T140000
DTSTAMP:20260422T223634
CREATED:20211029T152151Z
LAST-MODIFIED:20211029T152502Z
UID:1914-1635771600-1635775200@www.climate.cafe
SUMMARY:COP26 Climate Café
DESCRIPTION:Open Mic \nHosted by First Bus Glasgow at the Caledonian Depot\, accessible by Shuttle Bus from St Vincent Street\, near George Square.
URL:https://www.climate.cafe/event/cop26-climate-cafe-open-mic-1st/
CATEGORIES:COP26 Climate Café
ATTACH;FMTTYPE=image/jpeg:https://www.climate.cafe/wp/wp-content/uploads/2021/10/cop26-cafe-logo.jpg
END:VEVENT
BEGIN:VEVENT
DTSTART;TZID=Europe/London:20211101T110000
DTEND;TZID=Europe/London:20211101T110000
DTSTAMP:20260422T223634
CREATED:20211027T082557Z
LAST-MODIFIED:20211029T123941Z
UID:1782-1635764400-1635764400@www.climate.cafe
SUMMARY:COP26 Climate Café
DESCRIPTION:Speaker: Jess Pepper\, Scotland \nHosted by First Bus Glasgow at the Caledonian Depot\, accessible by Shuttle Bus from St Vincent Street\, near George Square.
URL:https://www.climate.cafe/event/cop26-climate-cafe-1st-11am/
CATEGORIES:COP26 Climate Café
ATTACH;FMTTYPE=image/jpeg:https://www.climate.cafe/wp/wp-content/uploads/2021/10/cop26-cafe-logo.jpg
END:VEVENT
END:VCALENDAR